BEGIN:VCALENDAR
VERSION:2.0
PRODID:-//Calit2 UCI | California Institute for Telecommunications and Information Technology - ECPv6.15.18//NONSGML v1.0//EN
CALSCALE:GREGORIAN
METHOD:PUBLISH
X-WR-CALNAME:Calit2 UCI | California Institute for Telecommunications and Information Technology
X-ORIGINAL-URL:https://www.calit2.uci.edu
X-WR-CALDESC:Events for Calit2 UCI | California Institute for Telecommunications and Information Technology
REFRESH-INTERVAL;VALUE=DURATION:PT1H
X-Robots-Tag:noindex
X-PUBLISHED-TTL:PT1H
BEGIN:VTIMEZONE
TZID:America/Los_Angeles
BEGIN:DAYLIGHT
TZOFFSETFROM:-0800
TZOFFSETTO:-0700
TZNAME:PDT
DTSTART:20180311T100000
END:DAYLIGHT
BEGIN:STANDARD
TZOFFSETFROM:-0700
TZOFFSETTO:-0800
TZNAME:PST
DTSTART:20181104T090000
END:STANDARD
BEGIN:DAYLIGHT
TZOFFSETFROM:-0800
TZOFFSETTO:-0700
TZNAME:PDT
DTSTART:20190310T100000
END:DAYLIGHT
BEGIN:STANDARD
TZOFFSETFROM:-0700
TZOFFSETTO:-0800
TZNAME:PST
DTSTART:20191103T090000
END:STANDARD
BEGIN:DAYLIGHT
TZOFFSETFROM:-0800
TZOFFSETTO:-0700
TZNAME:PDT
DTSTART:20200308T100000
END:DAYLIGHT
BEGIN:STANDARD
TZOFFSETFROM:-0700
TZOFFSETTO:-0800
TZNAME:PST
DTSTART:20201101T090000
END:STANDARD
END:VTIMEZONE
BEGIN:VEVENT
DTSTART;TZID=America/Los_Angeles:20190204T130000
DTEND;TZID=America/Los_Angeles:20190204T183000
DTSTAMP:20260420T081625
CREATED:20190104T195440Z
LAST-MODIFIED:20190104T200620Z
UID:3876-1549285200-1549305000@www.calit2.uci.edu
SUMMARY:5th Annual International Symposium on Technology in Medical Devices
DESCRIPTION:This symposium brings together innovators\, entrepreneurs\, academia and industry leaders interested in bringing new technology to the medical device market. Medical device experts will present practical information designed to help innovators successfully move their research from the laboratory to the biomedical device market.\nEvent is free\, registration required. \nTENTATIVE AGENDA\n1 pm: Registration\n1:15 – 1:30pm: Welcome To UCI And CALIT2 – Professor GP Li\n1:30 – 3:15pm: Medical Devices In Today’s Local & Global Market \n\nTodd Zive\, Microvention (Invited)\nStanton Rowe\, NXT Biomedical\nJean Luc Vialard\, Winnov\, Medical Device Innovation Institute\nLuis Jimenez\, Brandwood Biomedical\nAlvin Viray\, Applied Innovation\, UC Irvine\n\n3:15 – 3:30pm: Coffee Break \n3:30 – 5:30pm: Tech/Startup Showcase \n5:30 – 6:30pm: Wrap Up And Networking Reception
URL:https://www.calit2.uci.edu/event/5th-annual-international-symposium-on-technology-in-medical-devices/
LOCATION:CALIT2 Bldg. UC Irvine
END:VEVENT
END:VCALENDAR