BEGIN:VCALENDAR
VERSION:2.0
PRODID:-//Calit2 UCI | California Institute for Telecommunications and Information Technology - ECPv6.15.18//NONSGML v1.0//EN
CALSCALE:GREGORIAN
METHOD:PUBLISH
X-WR-CALNAME:Calit2 UCI | California Institute for Telecommunications and Information Technology
X-ORIGINAL-URL:https://www.calit2.uci.edu
X-WR-CALDESC:Events for Calit2 UCI | California Institute for Telecommunications and Information Technology
REFRESH-INTERVAL;VALUE=DURATION:PT1H
X-Robots-Tag:noindex
X-PUBLISHED-TTL:PT1H
BEGIN:VTIMEZONE
TZID:America/Los_Angeles
BEGIN:DAYLIGHT
TZOFFSETFROM:-0800
TZOFFSETTO:-0700
TZNAME:PDT
DTSTART:20190310T100000
END:DAYLIGHT
BEGIN:STANDARD
TZOFFSETFROM:-0700
TZOFFSETTO:-0800
TZNAME:PST
DTSTART:20191103T090000
END:STANDARD
BEGIN:DAYLIGHT
TZOFFSETFROM:-0800
TZOFFSETTO:-0700
TZNAME:PDT
DTSTART:20200308T100000
END:DAYLIGHT
BEGIN:STANDARD
TZOFFSETFROM:-0700
TZOFFSETTO:-0800
TZNAME:PST
DTSTART:20201101T090000
END:STANDARD
BEGIN:DAYLIGHT
TZOFFSETFROM:-0800
TZOFFSETTO:-0700
TZNAME:PDT
DTSTART:20210314T100000
END:DAYLIGHT
BEGIN:STANDARD
TZOFFSETFROM:-0700
TZOFFSETTO:-0800
TZNAME:PST
DTSTART:20211107T090000
END:STANDARD
END:VTIMEZONE
BEGIN:VEVENT
DTSTART;TZID=America/Los_Angeles:20200421T100000
DTEND;TZID=America/Los_Angeles:20200421T121000
DTSTAMP:20260421T111542
CREATED:20200325T023536Z
LAST-MODIFIED:20200721T002816Z
UID:6388-1587463200-1587471000@www.calit2.uci.edu
SUMMARY:CalPlug Virtual Workshop 2020
DESCRIPTION:CalPlug Virtual Workshop 2020\nTuesday\, April 21\, 2020 \nPresented online. Login information will be provided to registrants. \n10 a.m.\nG.P. Li\, Welcome \n10:10 a.m.\n“California Climate Policy & GHGs”\nChris Busch\, Research Director\, Energy Innovation & Tech LLC \n10:35 a.m.\n“Energy Efficiency Strategic Planning & ZNE”\nCathy Higgins\, Research Director\, New Building Institute \n11 a.m.\nCalPlug Research Team:\n“SDGE/ComEd Projects”\nKatie Gladych\, Joy Pixley and Sabine Kunrath\n“CalPlug Solutions from Technology To Human Behavior”\nMike Klopfer \n11:45 a.m.\nAmir Tabakh and David Jacot\, LADWP\, Brief remarks \nNoon\nSession Ends \nCalPlug Celebrates 50th Anniversary of Earth Day\nWednesday\, April 22\, 2020 \nPresented online. Login information will be provided to registrants. \n10 a.m.\nG.P. Li\, Opening remarks \n10:05 a.m.\n“UCI Sustainability”\nWendell Brase\, UCI Associate Chancellor for Sustainability \n10:30 a.m.\n“CalPlug’s Future Vision of Achieving Energy Efficiency and Zero GHGs”\nMike Klopfer\, Technical Director \n11 a.m.\n“Reducing GHGs with ERC (Emission Reduction Credit)”\nAldyen Donnelly\, co-founder and Director of Carbon Economics at Nori \n11:30 a.m.\n“What has been Accomplished in the Past 50 year and What Lies Ahead”\nMichael Mitchell\, one of the organizers of the first Earth Day in 1970 \nNoon\nG.P. Li\, Wrap-up \n12:10 p.m.\nSession Ends
URL:https://www.calit2.uci.edu/event/calplug-virtual-workshop-2020/
CATEGORIES:previous
END:VEVENT
END:VCALENDAR