BEGIN:VCALENDAR
VERSION:2.0
PRODID:-//Calit2 UCI | California Institute for Telecommunications and Information Technology - ECPv6.15.18//NONSGML v1.0//EN
CALSCALE:GREGORIAN
METHOD:PUBLISH
X-WR-CALNAME:Calit2 UCI | California Institute for Telecommunications and Information Technology
X-ORIGINAL-URL:https://www.calit2.uci.edu
X-WR-CALDESC:Events for Calit2 UCI | California Institute for Telecommunications and Information Technology
REFRESH-INTERVAL;VALUE=DURATION:PT1H
X-Robots-Tag:noindex
X-PUBLISHED-TTL:PT1H
BEGIN:VTIMEZONE
TZID:America/Los_Angeles
BEGIN:DAYLIGHT
TZOFFSETFROM:-0800
TZOFFSETTO:-0700
TZNAME:PDT
DTSTART:20180311T100000
END:DAYLIGHT
BEGIN:STANDARD
TZOFFSETFROM:-0700
TZOFFSETTO:-0800
TZNAME:PST
DTSTART:20181104T090000
END:STANDARD
BEGIN:DAYLIGHT
TZOFFSETFROM:-0800
TZOFFSETTO:-0700
TZNAME:PDT
DTSTART:20190310T100000
END:DAYLIGHT
BEGIN:STANDARD
TZOFFSETFROM:-0700
TZOFFSETTO:-0800
TZNAME:PST
DTSTART:20191103T090000
END:STANDARD
BEGIN:DAYLIGHT
TZOFFSETFROM:-0800
TZOFFSETTO:-0700
TZNAME:PDT
DTSTART:20200308T100000
END:DAYLIGHT
BEGIN:STANDARD
TZOFFSETFROM:-0700
TZOFFSETTO:-0800
TZNAME:PST
DTSTART:20201101T090000
END:STANDARD
END:VTIMEZONE
BEGIN:VEVENT
DTSTART;TZID=America/Los_Angeles:20190418T120000
DTEND;TZID=America/Los_Angeles:20190418T143000
DTSTAMP:20260420T045507
CREATED:20190410T190827Z
LAST-MODIFIED:20190410T190923Z
UID:4509-1555588800-1555597800@www.calit2.uci.edu
SUMMARY:MDP project update presentation - April 18
DESCRIPTION:MDP project update presentation meetings. Each group of fellows will give a 20-minute project update presentation.\nLunch will be provided. \n\nFormation and Evolution of Ideology: A Cultural Consensus Model Approach for Mapping Religious Ideologies\nGreensteam: Rethinking External Combustion for a Sustainable Future\nInvestigating Interpersonal Comparisons of Utility\nOman Humanitarian Desalination Challenge: Passive Solar Desalination Water Bottles
URL:https://www.calit2.uci.edu/event/4509/
END:VEVENT
BEGIN:VEVENT
DTSTART;TZID=America/Los_Angeles:20190423T120000
DTEND;TZID=America/Los_Angeles:20190423T143000
DTSTAMP:20260420T045507
CREATED:20190410T192114Z
LAST-MODIFIED:20190419T021130Z
UID:4514-1556020800-1556029800@www.calit2.uci.edu
SUMMARY:MDP Fellows Project Updates
DESCRIPTION:MDP project update presentation meetings. Each group of fellows will give a 20-minute project update presentation. Lunch will be provided. \n\nRobust\, User-Friendly Optical Platform for Long-Term In Vivo Neuroimaging\nSeeing the World Through the Sewage Microbiome\nSmart Multimedia Technology for Understanding and Guiding Human Behavior\nVR Digital Audio Workstation (VirDAW)
URL:https://www.calit2.uci.edu/event/mdp-fellows-project-updates-april-23/
LOCATION:CALIT2 Building\, Room 3008
END:VEVENT
BEGIN:VEVENT
DTSTART;TZID=America/Los_Angeles:20190430T093000
DTEND;TZID=America/Los_Angeles:20190430T173000
DTSTAMP:20260420T045507
CREATED:20190410T191553Z
LAST-MODIFIED:20190410T191713Z
UID:4512-1556616600-1556645400@www.calit2.uci.edu
SUMMARY:CalPlug Workshop Series #13
DESCRIPTION:This semiannual workshop coordinates research efforts and maximizes communication about energy efficiency among industry stakeholders. Previous workshops have attracted experts from industry\, government and academic institutions. Invited speakers share presentations which highlight new technologies\, market trends\, standards and services. Technical innovations\, barriers to implementation and alternative business models are also addressed.\nAgenda: \nTentative Agenda – Smart Energy Efficiency 2.0 for Zero GHG Emissions \n10 a.m. Welcome \n10:15 a.m. KEYNOTE \n11:15 a.m. CalPlug Update \nNoon Lunch (provided) \n1:00 p.m. Alternative Cooling session 1 \n2:30 p.m. Mid-afternoon Break \n3:15 p.m. Connectivity & Integrated Electrification session 2 \n4:45 p.m. Networking Reception & CalPlug Demonstrations \nFREE EVENT – REGISTRATION REQUIRED
URL:https://www.calit2.uci.edu/event/calplug-workshop-series-13/
LOCATION:CALIT2 Bldg. UC Irvine
END:VEVENT
END:VCALENDAR