BEGIN:VCALENDAR
VERSION:2.0
PRODID:-//Calit2 UCI | California Institute for Telecommunications and Information Technology - ECPv6.15.18//NONSGML v1.0//EN
CALSCALE:GREGORIAN
METHOD:PUBLISH
X-WR-CALNAME:Calit2 UCI | California Institute for Telecommunications and Information Technology
X-ORIGINAL-URL:https://www.calit2.uci.edu
X-WR-CALDESC:Events for Calit2 UCI | California Institute for Telecommunications and Information Technology
REFRESH-INTERVAL;VALUE=DURATION:PT1H
X-Robots-Tag:noindex
X-PUBLISHED-TTL:PT1H
BEGIN:VTIMEZONE
TZID:America/Los_Angeles
BEGIN:DAYLIGHT
TZOFFSETFROM:-0800
TZOFFSETTO:-0700
TZNAME:PDT
DTSTART:20190310T100000
END:DAYLIGHT
BEGIN:STANDARD
TZOFFSETFROM:-0700
TZOFFSETTO:-0800
TZNAME:PST
DTSTART:20191103T090000
END:STANDARD
BEGIN:DAYLIGHT
TZOFFSETFROM:-0800
TZOFFSETTO:-0700
TZNAME:PDT
DTSTART:20200308T100000
END:DAYLIGHT
BEGIN:STANDARD
TZOFFSETFROM:-0700
TZOFFSETTO:-0800
TZNAME:PST
DTSTART:20201101T090000
END:STANDARD
BEGIN:DAYLIGHT
TZOFFSETFROM:-0800
TZOFFSETTO:-0700
TZNAME:PDT
DTSTART:20210314T100000
END:DAYLIGHT
BEGIN:STANDARD
TZOFFSETFROM:-0700
TZOFFSETTO:-0800
TZNAME:PST
DTSTART:20211107T090000
END:STANDARD
END:VTIMEZONE
BEGIN:VEVENT
DTSTART;TZID=America/Los_Angeles:20200901T150000
DTEND;TZID=America/Los_Angeles:20200901T160000
DTSTAMP:20260421T130755
CREATED:20200721T005937Z
LAST-MODIFIED:20200825T025052Z
UID:7147-1598972400-1598976000@www.calit2.uci.edu
SUMMARY:SURF-IoT Talk Series - September 1
DESCRIPTION:Jesse Jackson\, Assoc. Professor\, Arts-Studio Art \nRapid Response Design & Making at the Speculative Prototyping Lab \n(Register via Zoom link below)
URL:https://www.calit2.uci.edu/event/surf-iot-talk-series-september-1/
END:VEVENT
BEGIN:VEVENT
DTSTART;TZID=America/Los_Angeles:20200910T150000
DTEND;TZID=America/Los_Angeles:20200910T170000
DTSTAMP:20260421T130755
CREATED:20200805T042207Z
LAST-MODIFIED:20200805T042317Z
UID:7259-1599750000-1599757200@www.calit2.uci.edu
SUMMARY:Final SURF-IoT Program Symposium/Fellows
DESCRIPTION:2020 SURF-IoT fellows and projects: \nMarawin Chheang\nProject: Understanding User Perceptions of Algorithms Prediction in Personal Health \nAviv Benchorin\nProject: Live Update Service for ZotCare Multi-Level IoT-Based Health Monitoring System \nJohn Le\nProject: Mobile and Webapp for ZotCare Multi-Level IoT-Based Health Monitoring System \nJonathan Sugijoto\nProject: Smart Watches/Rings as a Predictive/Preventative for Sleep Promotion in Pregnant Women \nJudit Castellanos\nProject: Pain Buddy – Treating Pain in Children with Cancer \nAnanth Krishnan\nProject: Rapid Response Design & Making at the Speculative Prototyping Lab \nYilei Wu\nProject: Applications of Deep Learning in 3D Cardiac MRI Segmentation \nAngelou Lao\nProject: Continuous Physiological Monitoring for COVID-19 \nDarwin Salgado\nProject: Detection of SARS-CoV-2 Virus in Salivahas \nMelinda Li\nProject: IoT Application to Monitor COVID-19 Social Distancing on Campus \nMiriam Munoz\nProject: Evaluating the Feasibility of Conducting Language and Cognitive Assessments for Bilingual Children using Telepractice: A Validity Study \nYuchong Chen\nProject: WIoT Data Analysis for Dementia Family Caregiver Home Visit Intervention Study \nRegine DeGuman\nProject: Exploring Multimodal Voice Interface Design in Alexa Games for Children \nVikram Miryala\nProject: A Privacy Policy Engine for the Internet of Things \nJiaxin Luo\nProject: Translating Audiological Tests from Labs to Homes \nShuyang Zhang\nProject: Translating Audiological Tests from Labs to Homes \nXinghua Zhou\nProject: Translating Audiological Tests from Labs to Homes \nJiawen Zhang\nProject: Understanding Patient Questions about their Medical Data and How such Questions are Answered through the Collective Wisdom in Online Patient Communities
URL:https://www.calit2.uci.edu/event/final-surf-iot-program-symposium-fellows/
END:VEVENT
END:VCALENDAR