BEGIN:VCALENDAR
VERSION:2.0
PRODID:-//Calit2 UCI | California Institute for Telecommunications and Information Technology - ECPv6.15.18//NONSGML v1.0//EN
CALSCALE:GREGORIAN
METHOD:PUBLISH
X-WR-CALNAME:Calit2 UCI | California Institute for Telecommunications and Information Technology
X-ORIGINAL-URL:https://www.calit2.uci.edu
X-WR-CALDESC:Events for Calit2 UCI | California Institute for Telecommunications and Information Technology
REFRESH-INTERVAL;VALUE=DURATION:PT1H
X-Robots-Tag:noindex
X-PUBLISHED-TTL:PT1H
BEGIN:VTIMEZONE
TZID:America/Los_Angeles
BEGIN:DAYLIGHT
TZOFFSETFROM:-0800
TZOFFSETTO:-0700
TZNAME:PDT
DTSTART:20230312T100000
END:DAYLIGHT
BEGIN:STANDARD
TZOFFSETFROM:-0700
TZOFFSETTO:-0800
TZNAME:PST
DTSTART:20231105T090000
END:STANDARD
BEGIN:DAYLIGHT
TZOFFSETFROM:-0800
TZOFFSETTO:-0700
TZNAME:PDT
DTSTART:20240310T100000
END:DAYLIGHT
BEGIN:STANDARD
TZOFFSETFROM:-0700
TZOFFSETTO:-0800
TZNAME:PST
DTSTART:20241103T090000
END:STANDARD
BEGIN:DAYLIGHT
TZOFFSETFROM:-0800
TZOFFSETTO:-0700
TZNAME:PDT
DTSTART:20250309T100000
END:DAYLIGHT
BEGIN:STANDARD
TZOFFSETFROM:-0700
TZOFFSETTO:-0800
TZNAME:PST
DTSTART:20251102T090000
END:STANDARD
END:VTIMEZONE
BEGIN:VEVENT
DTSTART;TZID=America/Los_Angeles:20240205T130000
DTEND;TZID=America/Los_Angeles:20240205T180000
DTSTAMP:20260421T003833
CREATED:20231220T180228Z
LAST-MODIFIED:20240202T031739Z
UID:9569-1707138000-1707156000@www.calit2.uci.edu
SUMMARY:8th Annual Biomedical Symposium
DESCRIPTION:This symposium brings together innovators\, entrepreneurs\, academia and industry leaders interested in ever-evolving medical device market and the challenges new technologies.  Today’s modern medicine and healthcare continues to improve our lives through innovation and invention of better biomedical devices and products as well as health services through intelligent data and emerging technologies.  UCI is at the heart of this exciting evolution to improve lives by working in collaboration with local business leaders\, regulators and more.   \nAGENDA\n12:30		CHECK IN\n1:00 		WELCOME TO UCI and CALIT2 – Professor GP LI \n1:10 		ORANGE COUNTY’S BIOTECH TODAY\n                1:10	UCI’s Collaboration and Commitment to OC’s Startup Ecosystem\n                        ALVIN VIRAY\, Associate Director\, Applied Innovation\, UC Irvine\n                1:30	Legal Protections for Medical Devices and Data\n                        CURTIS HUFFMIRE\, Partner\, Knobbe Martens \n1:50 		OC STARTUP LANDSCAPE in BIOMEDICAL Device\, Data & Technology\n                1:50 	PathForce Dx – Mohit Kale\, CTO\n                2:10 	SIM InSights – Rajesh Jha\, CEO\n                2:30	CellEcho – Mohammad Aghaamoo\, co-founder\n                2:50 	Matregenix – Sherif Soliman\, CEO \n3:10 	 	BREAK \n3:20 		UCI INNOVATION\n		3:20	ENN (Engineered Neural Network) – new approach to stroke rehabilitation (An Do)\n                3:35	PICARD (Patient-Initiated Control Analgesic Remote Dispenser) – biometric bottle to monitor\n                        opioid use (Sergio Gago)\n                3:50 	Uterine Suture – a novel technique for treating postpartum hemorrhage (Christine King)\n                4:05	ARC (Activity Recording CAFE) – a high throughput & automated behavioral phenomic\n                        assessment machine vision (Mahtab Jafari)\n                4:20 	Pedi-Syn – Clinical research device & app to measure oral feeding adaptability in preterm\n                        infants (William Tang) \n4:35 		OC INNOVATION\n                4:35	Leading the way in innovation for over 100 years\n                        LINYI XIA\, Engineer\, Johnson & Johnson\n                4:50	Healthcare Technology for the digital age\n                        SEAN WHITE\, Director of Research & Technology\, Medtronic \n5:05		NETWORKING RECEPTION \nLast Day to Register is February 1\, 2024.
URL:https://www.calit2.uci.edu/event/8th-annual-biomedical-symposium/
END:VEVENT
END:VCALENDAR